BEGIN:VCALENDAR
VERSION:2.0
PRODID:-//hacksw/handcal//NONSGML v1.0//EN
CALSCALE:GREGORIAN
BEGIN:VEVENT
LOCATION:Bella Center Copenhagen
DESCRIPTION:NetNordic på V2 Security 2026  Vi deltager igen på V2 Security – Danmarks førende messe og konference inden for cyber- og informationssikkerhed. Trusselsbilledet udvikler sig hastigt\, og cyberangreb rammer danske virksomheder med stadig større præcision og fart. På V2 Security går branchens aktører sammen for at styrke det fælles digitale forsvar og oversætte teori til praktisk beskyttelse.
DTSTART:20260506T070000Z
DTEND:20260507T150000Z
SUMMARY:V2 Security 2026
URL;VALUE=URI:https://dk.netnordic.noboxdesign.se/events/v2-security-2026-2/
DTSTAMP:20260423T143604Z
UID:69ea2e549e064
END:VEVENT
END:VCALENDAR